BEGIN:VCALENDAR
VERSION:2.0
PRODID:-//wp-events-plugin.com//7.2.3.1//EN
TZID:America/Los_Angeles
X-WR-TIMEZONE:America/Los_Angeles
BEGIN:VEVENT
UID:95@musicinthevineyards.org
DTSTART;TZID=America/Los_Angeles:20260513T093000
DTEND;TZID=America/Los_Angeles:20260513T160000
DTSTAMP:20260421T183627Z
URL:https://www.musicinthevineyards.org/events/tuning-in-womens-wellness-g
 athering/
SUMMARY:Tuning In: Women’s Wellness Gathering
DESCRIPTION:Generously Sponsored by Morgan Stanley				\n					Pause. Listen.
  Connect.				\n												\n											\n															\n											\n		
 								\n		Join us for a day designed for women and centered on finding b
 alance and resilience. Participants will be treated to a full day of speak
 ers\, activities and experiences focused on optimal well-being and stress 
 management. Enjoy an al fresco lunch catered by Brindare and Frog's leap w
 ines in the verdant garden.Graciously hosted by Frog's Leap WineryPresente
 rsKeynote speaker Elissa Epel\, Ph.D. - UCSF professor and international e
 xpert on stress\, well-being\, and optimal aging. Author of The Stress Pre
 scription.Lara Fielding\, Psy.D.\, Ed.M. - Behavior psychologist speciali
 zing in mindfulness\, stress resilience\, and emotion regulation. Author o
 f Mastering Adulthood: Go Beyond Adulting to Become an Emotional Grown-Up.
 Kat Gordon - Certified Executive Coach &amp\; Reiki MasterImelda Oppenheim
  - Yoga instructorDarlene Meltzer - Certified Qigong ExpertIngrid Foster -
  Crystal bowl sound alchemist		\n					The Day's Flow				\n		9:30am — 10:
 00am ArrivalStep in\, slow down\, and enjoy a warm drink in the Frog's Lea
 p Winery Vineyard House10:00am - Welcome10:30am — Guided MovementYour ch
 oice of  gentle stretching with yoga instructor\, Imelda Oppenheim\, or a
  qigong session with Darlene Meltzer11:00am — Keynote Speaker\, Elissa E
 pel\, Ph.d. Building Stress Resilience: A Key to Women's Well Being and H
 ealthy Aging12:30pm  - Lunch Savor Frog's Leap wines and a  beautifully
  curated lunch by Brindare1:30pm — Guided Vineyard Tour2:00pm —  Lara
  Fielding\, Psy.D.\, Ed.M.     Unique You: Tuning into your Emotional H
 abit Patterns3:15 — Sound Bath Meditation with Ingrid Foster3:25 — Kat
  Gordon Takeaways: Bringing Today's Wisdom into Tomorrow4:00pm — Event 
 concludes		\n																\n															\n					Good To Know				\n		C
 ome in relaxed attire and comfortable shoes for easy movement.Participants
  will receive a copy of Dr. Epel's best-selling book\, The Stress Prescrip
 tion PLUS complimentary gift bag courtesy of Bluemercury!$395 per person\,
  intimate 50-seat capacityAll proceeds support Music in the Vineyard’s a
 rtistic and educational programs\; $150 of your ticket will be tax deducti
 ble.Special pricing for lodging available through our partner hotel\, Blu
 emercury.		\n					The Presenters				\n												\n																					D
 r. Elissa Epel\n										\n												\n																					Dr. Lara Fi
 elding\n										\n												\n																					Kat Gordon\n							
 			\n												\n																					Imelda Oppenheim\n										\n				
 								\n																					Ingrid Foster\n										\n												\n		
 																			Darlene Meltzer\n										\n		Elissa Epel\, Ph.D. is a
 n international expert on stress\, well-being\, and optimal aging and a be
 st-selling author of The Telomere Effect\, and now The Stress Prescription
 . She is a Professor in the Department of Psychiatry &amp\; Behavioral Sci
 ences\, at The University of California\, San Francisco\, where she direct
 s the UCSF Aging Metabolism Emotions Center. She studies how psychosocial 
 and behavioral factors\, such as meditation and positive stress\, can slow
  aging and focuses on climate wellness.Lara Fielding\, Psy.D.\, Ed.M. is a
  behavioral psychologist and author\, specializing in mindful self-awarene
 ss and skills for coping with stress and strong emotions. At UCLA and Harv
 ard\, she studied the psycho-physiology of stress\, emotions and cognition
 \, before getting her doctorate at Pepperdine\, where she was an Adjunct P
 rofessor. She is author of the book Mastering Adulthood: Go Beyond Adultin
 g to Become an Emotional Grown-Up.Kat Gordon helps people stay centered\, 
 calm and creative through her work as an Executive Coach and Reiki Master.
  After a storied career in advertising\, where she was named one of "30 Mo
 st Creative Women in Advertising" by BusinessInsider and "Visionary of the
  Year" by Advertising Age\, Kat now brings human transformation to the For
 tune500 through her latest startup: The Creative Coaching Coalition.Imelda
  Oppenheim teaches yoga to all levels of experience through gentle moveme
 nt\, breathwork and meditation. Ever so distracted by modern living\, and 
 as a proud member of the ‘Boomer Generation’ she recognizes the effect
 iveness of slow mindful practices to improve focus and calm the nervous sy
 stem. Imelda has been teaching yoga in the San Francisco Bay Area for over
  a decade and offers individual and small group classes in person and onli
 ne. She currently lives in Calistoga with her husband\, Mark.Ingrid A. Fos
 ter has devoted over 40 years to the study and practice of energy healing 
 as a Usui Reiki Master\, Certified Angel Therapy Practitioner\, and Crysta
 l Bowl Sound Alchemist. Guided by a lifelong connection to angels\, energy
 \, and frequency\, she offers both private and group sound healing experie
 nces designed to restore harmony and awaken inner alignment. With a backgr
 ound in classical dance and performance\, Ingrid weaves grace\, presence\,
  and artistry into every crystal bowl sound bath she curates—creating im
 mersive\, elevated experiences that soothe the nervous system and nourish 
 the soul.Darlene Meltzer has spent over 40 years guiding others in movemen
 t\, healing\, and mindful living. Drawing from practices such as Qigong\, 
 Pilates\, meditation\, breathwork\, yoga\, and Tai Chi\, she supports a ho
 listic approach that nurtures the connection of mind\, body\, and spirit. 
 Her teaching encourages balance\, vitality\, and a deeper sense of inner c
 alm.
ATTACH;FMTTYPE=image/jpeg:https://www.musicinthevineyards.org/wp-content/u
 ploads/2026/02/frogs-leap-barn-scaled.jpg
LOCATION:Frog’s Leap Winery\, 8815 Conn Creek Rd\, Rutherford\, CA\, 9457
 3\, United States
GEO:38.473609;-122.403311
X-APPLE-STRUCTURED-LOCATION;VALUE=URI;X-ADDRESS=8815 Conn Creek Rd\, Ruther
 ford\, CA\, 94573\, United States;X-APPLE-RADIUS=100;X-TITLE=Frog’s Leap
  Winery:geo:38.473609,-122.403311
END:VEVENT
BEGIN:VTIMEZONE
TZID:America/Los_Angeles
X-LIC-LOCATION:America/Los_Angeles
BEGIN:DAYLIGHT
DTSTART:20260308T030000
TZOFFSETFROM:-0800
TZOFFSETTO:-0700
TZNAME:PDT
END:DAYLIGHT
END:VTIMEZONE
END:VCALENDAR