BEGIN:VCALENDAR
VERSION:2.0
PRODID:-//wp-events-plugin.com//7.2.3.1//EN
TZID:America/Los_Angeles
X-WR-TIMEZONE:America/Los_Angeles
BEGIN:VEVENT
UID:11@musicinthevineyards.org
DTSTART;TZID=America/Los_Angeles:20230810T190000
DTEND;TZID=America/Los_Angeles:20230810T190000
DTSTAMP:20230526T234113Z
URL:https://www.musicinthevineyards.org/events/schuberts-miraculous-last-y
 ear/
SUMMARY:Music Illuminated
DESCRIPTION:Schubert’s Miraculous Last Year		\n		Brilliantly prolific whi
 le terribly ill\, Schubert's flurry of final works transcended the terribl
 e suffering he endured. Curated by Artistic Director Michael Adams and ass
 isted by festival musicians\, this program will sample from the works of S
 chubert's miraculous last year\, including the “cello” quintet\, the t
 wo piano trios\, and his final piano sonatas.\nBefore joining us in the Ec
 oLab Theater at Copia take the opportunity to dine at The Grove\, the sign
 ature restaurant of the Culinary Institute of America featuring a special 
 two course prix fixe menu at $49 for MITV ticketholders. (Click here to ma
 ke a reservation at The Grove on August 10th at 5:00pm or call CIA at Copi
 a directly at 707-967-2500. Upon arrival\, mention you are part of the Mus
 ic in the Vineyards event and prix fixe dinner).\nPart of An Echo in the V
 ineyards event\, our concert and outreach activity for Napa’s Musical Co
 mmunity.
ATTACH;FMTTYPE=image/jpeg:https://www.musicinthevineyards.org/wp-content/u
 ploads/2023/04/Music-Illuminated-Copia.webp
LOCATION:\, \, 
GEO:38.302915;-122.280356
X-APPLE-STRUCTURED-LOCATION;VALUE=URI;X-ADDRESS=\, ;X-APPLE-RADIUS=100;X-TI
 TLE=:geo:38.302915,-122.280356
END:VEVENT
BEGIN:VTIMEZONE
TZID:America/Los_Angeles
X-LIC-LOCATION:America/Los_Angeles
BEGIN:DAYLIGHT
DTSTART:20230312T030000
TZOFFSETFROM:-0800
TZOFFSETTO:-0700
TZNAME:PDT
END:DAYLIGHT
END:VTIMEZONE
END:VCALENDAR