BEGIN:VCALENDAR
VERSION:2.0
PRODID:-//wp-events-plugin.com//7.2.3.1//EN
TZID:America/Los_Angeles
X-WR-TIMEZONE:America/Los_Angeles
BEGIN:VEVENT
UID:13@musicinthevineyards.org
DTSTART;TZID=America/Los_Angeles:20230804T190000
DTEND;TZID=America/Los_Angeles:20230804T190000
DTSTAMP:20230704T155944Z
URL:https://www.musicinthevineyards.org/events/hudson-ranch/
SUMMARY:Hudson Ranch
DESCRIPTION:This program will take you on a journey\, from the solemn Lamen
 to of Kahlevi Aho\, to the bawdy Café Music of Paul Schoenfield\, which w
 as inspired by his stint as the pianist at a steakhouse. We close with the
  exuberant and passionate Quintet no. 2 by Mendelssohn.Please note this co
 ncert will take place outdoors. 		\n			Program		\n		Kahlevi AhoLamento fo
 r Two ViolinsBorodinString TrioCharlton SingletonTestimonyPaul Schoenfield
 Café MusicMendelssohnString Quintet no. 2		\n			Musicians		\n		ViolinOwen
  Dalby\, Karla Donehew Perez\, Abi Fayette\, Axel Strauss\, Daria T. Adams
 ViolaPaul Laraia\, Yuri Santos\, David SamuelCelloJulie Albers\, Oliver He
 rbertPianoJohn Novacek
ATTACH;FMTTYPE=image/jpeg:https://www.musicinthevineyards.org/wp-content/u
 ploads/2023/04/Hudson-Ranch-2.webp
LOCATION:Hudson Ranch\, 5398 Carneros Hwy\, Napa\, CA\, 94559\, United Stat
 es
GEO:38.257285;-122.360306
X-APPLE-STRUCTURED-LOCATION;VALUE=URI;X-ADDRESS=5398 Carneros Hwy\, Napa\, 
 CA\, 94559\, United States;X-APPLE-RADIUS=100;X-TITLE=Hudson Ranch:geo:38.
 257285,-122.360306
END:VEVENT
BEGIN:VTIMEZONE
TZID:America/Los_Angeles
X-LIC-LOCATION:America/Los_Angeles
BEGIN:DAYLIGHT
DTSTART:20230312T030000
TZOFFSETFROM:-0800
TZOFFSETTO:-0700
TZNAME:PDT
END:DAYLIGHT
END:VTIMEZONE
END:VCALENDAR