BEGIN:VCALENDAR
VERSION:2.0
PRODID:-//wp-events-plugin.com//7.2.3.1//EN
TZID:America/Los_Angeles
X-WR-TIMEZONE:America/Los_Angeles
BEGIN:VEVENT
UID:14@musicinthevineyards.org
DTSTART;TZID=America/Los_Angeles:20230805T170000
DTEND;TZID=America/Los_Angeles:20230805T170000
DTSTAMP:20230704T160040Z
URL:https://www.musicinthevineyards.org/events/echo-in-the-vineyards/
SUMMARY:Concert For The Community
DESCRIPTION:This Concert for the Community will feature festival musicians 
 in works by Antonio Vivaldi and tango master Astor Piazzolla\, as well our
  first ever play-along\, which will include you! All are welcome—on any 
 instrument*—to join us in playing Johann Pachelbel’s beautiful Canon.D
 ownload the music below and bring your instrument to perform with the MITV
  Festival musicians in this once-in-alifetime performance:		\n									\n	
 										\n															\n											CanonJohann Pachelbel\n										\
 n									\n											\n															\n											Kanon und GigueJohann
  Pachelbel\n										\n									\n											\n															\n									
 		Kanon e D-DurJohann Pachelbel\n										\n		Part of An Echo in the Vine
 yards event\, our concert and outreach activity for Napa’s Musical Commu
 nity.\n*No bagpipes please.		\n			Program		\n		VivaldiConcerto for Two Cel
 liGabriela Lena FrankQuijotadas for String QuartetPiazzollaFour Seasons of
  Buenos Aires PachelbelCanon		\n			Musicians		\n		ViolinOwen Dalby\, Karla
  Donehew Perez\, Abi Fayette\, Axel Strauss\, Daria T. Adams\, Maggie Brad
 y\, Benjamin GoldsteinViolaPaul Laraia\, Yuri Santos\, David SamuelCelloJu
 lie Albers\, Oliver Herbert\, Karlos Rodriguez\, Chas BarnardBassScott Pin
 gel
ATTACH;FMTTYPE=image/jpeg:https://www.musicinthevineyards.org/wp-content/u
 ploads/2023/04/Concert-For-The-Community.webp
LOCATION:First Presbyterian Church of Napa\, 1333 3rd St\, Napa\, CA\, 9455
 9\, United States
GEO:38.296356;-122.286884
X-APPLE-STRUCTURED-LOCATION;VALUE=URI;X-ADDRESS=1333 3rd St\, Napa\, CA\, 9
 4559\, United States;X-APPLE-RADIUS=100;X-TITLE=First Presbyterian Church 
 of Napa:geo:38.296356,-122.286884
END:VEVENT
BEGIN:VTIMEZONE
TZID:America/Los_Angeles
X-LIC-LOCATION:America/Los_Angeles
BEGIN:DAYLIGHT
DTSTART:20230312T030000
TZOFFSETFROM:-0800
TZOFFSETTO:-0700
TZNAME:PDT
END:DAYLIGHT
END:VTIMEZONE
END:VCALENDAR