BEGIN:VCALENDAR
VERSION:2.0
PRODID:-//wp-events-plugin.com//7.2.3.1//EN
TZID:America/Los_Angeles
X-WR-TIMEZONE:America/Los_Angeles
BEGIN:VEVENT
UID:106@musicinthevineyards.org
DTSTART;TZID=America/Los_Angeles:20260810T190000
DTEND;TZID=America/Los_Angeles:20260810T190000
DTSTAMP:20260401T180441Z
URL:https://www.musicinthevineyards.org/events/2026-congregation-beth-shal
 om/
SUMMARY:Maple Quartet
DESCRIPTION:Formed during their undergraduate years at the Eastman School o
 f Music\, the Maple Quartet were awarded the Celentano String Quartet Priz
 e honoring students who demonstrate exceptional achievement in the perform
 ance of chamber music.\nProgram\nFranz Joseph Haydn (1732-1909): String Qu
 artet in A major\, Op. 20 no. 6\n\nCaroline Shaw (b. 1982): Valencia\n\nAn
 tonín Dvořák (1841-1904): String Quartet No. 10 in E-flat major\, Op. 5
 1\, Slavonic\n\nMaple Quartet:\nIsabel Chen\, violin\nMagali Pelletey\, vi
 olin\nJohn Crowley\, viola\nGabriel Hennebury\, cello\n\nFor more informat
 ion\, please contact&nbsp\;info@musicinthevineyards.org.\n\nLearn more abo
 ut MITV's education and community engagement programs here.
ATTACH;FMTTYPE=image/jpeg:https://www.musicinthevineyards.org/wp-content/u
 ploads/2026/03/maple-quartet-cover-scaled.jpg
LOCATION:Congregation Beth Shalom\, 1455 Elm St\, Napa\, CA\, 94559\, Unite
 d States
GEO:38.289458;-122.290207
X-APPLE-STRUCTURED-LOCATION;VALUE=URI;X-ADDRESS=1455 Elm St\, Napa\, CA\, 9
 4559\, United States;X-APPLE-RADIUS=100;X-TITLE=Congregation Beth Shalom:g
 eo:38.289458,-122.290207
END:VEVENT
BEGIN:VTIMEZONE
TZID:America/Los_Angeles
X-LIC-LOCATION:America/Los_Angeles
BEGIN:DAYLIGHT
DTSTART:20260308T030000
TZOFFSETFROM:-0800
TZOFFSETTO:-0700
TZNAME:PDT
END:DAYLIGHT
END:VTIMEZONE
END:VCALENDAR